Workbook

Sheet Sheet1
E1: 4/8時点
B2: 事業所区分 | C2: 広報協力店 | D2: 所在地 | E2: ポスター掲示
A3: 1 | B3: 飲食店 | C3: 有限会社 天武 | D3: 境771-2 | E3: 可
A4: 2 | B4: 小売業 | C4: 子供服 アップルパイン | D4: 安堀町1866-6 | E4: 可
A5: 3 | C5: カインズ 伊勢崎店 | D5: 宮子町3200 | E5: 可
A6: 4 | C6: カインズ 赤堀店 | D6: 市場町2-372 | E6: 可
A7: 5 | C7: カインズ 佐波東店 | D7: 西小保方町156-2 | E7: 可
A8: 6 | B8: 郵便事業 | C8: 伊勢崎郵便局 | D8: 曲輪町36-2 | E8: 可
A9: 7 | C9: 伊勢崎中央町郵便局 | D9: 中央町29-2 | E9: 可
A10: 8 | C10: 伊勢崎寿町郵便局 | D10: 寿町150-2 | E10: 不可
A11: 9 | C11: 伊勢崎上泉郵便局 | D11: 上泉町249-3 | E11: 不可
A12: 10 | C12: 伊勢崎三和郵便局 | D12: 三和町2195-3 | E12: 可
A13: 11 | C13: 伊勢崎豊城郵便局 | D13: 豊城町1962-1 | E13: 可
A14: 12 | C14: 伊勢崎東本町郵便局 | D14: 東本町377-7 | E14: 可
A15: 13 | C15: 茂呂郵便局 | D15: 茂呂町1-3413-1 | E15: 可
A16: 14 | C16: 伊勢崎太田郵便局 | D16: 太田町893 | E16: 不可
A17: 15 | C17: 伊勢崎宮郷郵便局 | D17: 田中島町1420-3 | E17: 可
A18: 16 | C18: 伊勢崎田中郵便局 | D18: 田中町674-3 | E18: 可
A19: 17 | C19: 伊勢崎山王郵便局 | D19: 山王町64-1 | E19: 可
A20: 18 | C20: 伊勢崎名和郵便局 | D20: 堀口町112-4 | E20: 可
... A30: 28 | C30: 境郵便局 | D30: 境下武士360-2 | E30: 可
A31: 29 | B31: 金融機関 | C31: アイオー信用金庫 本店営業部 | D31: 中央町20-17 | E31: 可
A32: 30 | C32: アイオー信用金庫 大手町出張所 | D32: 大手町12-20 | E32: 可
A33: 31 | C33: アイオー信用金庫 うえはす支店 | D33: 上諏訪町2111-16 | E33: 可
A34: 32 | C34: アイオー信用金庫 茂呂支店 | D34: 茂呂町二丁目3509-18 | E34: 可
A35: 33 | C35: アイオー信用金庫 北支店 | D35: 太田町909-4 | E35: 可
A36: 34 | C36: アイオー信用金庫 TBSハウジング支店 | D36: 宮子町3600-1 | E36: 可
A37: 35 | C37: アイオー信用金庫 宮郷支店 | D37: 連取町3039-3 | E37: 可
A38: 36 | C38: アイオー信用金庫 名和出張所 | D38: 堀口町315-1 | E38: 可
A39: 37 | C39: アイオー信用金庫 豊受支店 | D39: 富塚町252-7 | E39: 可
A40: 38 | C40: アイオー信用金庫 赤堀支店 | D40: 市場町二丁目890 | E40: 可
A41: 39 | C41: アイオー信用金庫 あずま支店 | D41: 東町2612-1 | E41: 可
A42: 40 | C42: アイオー信用金庫 境支店 | D42: 境764-4 | E42: 可
A43: 41 | C43: アイオー信用金庫 渕名出張所 | D43: 境上渕名1091-2 | E43: 可
... A56: 54 | C56: しののめ信用金庫 伊勢崎支店 | D56: 今泉町2-946-13 | E56: 可
A57: 55 | B57: 小売業 | C57: 珈琲豆焙煎工房Ｂｌｉｓｓ | D57: 宮子町3410-3 | E57: 可

Sheet Sheet2
A1: 正式町・字名一覧
B2: 番号 | C2: 正 式 町 ・ 字 名 | D2: 備 考 | E2: 番号 | G2: 桐生信用金庫 国定支店 | H2: 国定町二丁目 | I2: =VLOOKUP(H2,$C$3:$E$136,3,FALSE) -> 106
A3: 北 | B3: 1 | C3: 曲輪町 | E3: 1 | G3: 桐生信用金庫 伊勢崎支店 | H3: 柳原町 | I3: =VLOOKUP(H3,$C$3:$E$136,3,FALSE) -> 11
B4: 2 | C4: 大手町 | E4: 2 | G4: 桐生信用金庫 伊勢崎西支店 | H4: 連取本町 | I4: =VLOOKUP(H4,$C$3:$E$136,3,FALSE) -> 49
B5: 3 | C5: 平和町 | E5: 3 | G5: 桐生信用金庫 伊勢崎東支店 | H5: 上諏訪町 | I5: =VLOOKUP(H5,$C$3:$E$136,3,FALSE) -> 28
A6: 南 | B6: 4 | C6: 本町 | E6: 4 | G6: 桐生信用金庫 伊勢崎南支店 | H6: 南千木町 | I6: =VLOOKUP(H6,$C$3:$E$136,3,FALSE) -> 37
B7: 5 | C7: 中央町 | E7: 5 | G7: 桐生信用金庫 境支店 | H7: 境栄 | I7: 132
B8: 6 | C8: 緑町 | E8: 6 | G8: 桐生信用金庫 豊受支店 | H8: 富塚町 | I8: =VLOOKUP(H8,$C$3:$E$136,3,FALSE) -> 69
B9: 7 | C9: 三光町 | E9: 7 | G9: 桐生信用金庫 赤堀支店 | H9: 西久保町二丁目 | I9: =VLOOKUP(H9,$C$3:$E$136,3,FALSE) -> 79
A10: 南北 | B10: 8 | C10: 若葉町 | E10: 8
A11: 北 | B11: 9 | C11: 喜多町 | E11: 9
B12: 10 | C12: 宗高町 | E12: 10
B13: 11 | C13: 柳原町 | E13: 11
B14: 12 | C14: 寿町 | E14: 12
B15: 13 | C15: 西田町 | E15: 13
B16: 14 | C16: 華蔵寺町 | E16: 14
B17: 15 | C17: 堤西町 | E17: 15
B18: 16 | C18: 堤下町 | E18: 16
B19: 17 | C19: 八幡町 | E19: 17
B20: 18 | C20: 末広町 | E20: 18
B21: 19 | C21: 乾町 | E21: 19
A22: 南 | B22: 20 | C22: 上泉町 | E22: 20
B23: 21 | C23: 八坂町 | E23: 21
B24: 22 | C24: 今泉町二丁目 | E24: 22
A25: 殖蓮 | B25: 23 | C25: 三和町 | E25: 23
B26: 24 | C26: 本関町 | E26: 24
B27: 25 | C27: 鹿島町 | E27: 25
B28: 26 | C28: 上植木本町 | E28: 26
B29: 27 | C29: 豊城町 | E29: 27
B30: 28 | C30: 上諏訪町 | E30: 28
B31: 29 | C31: 日乃出町 | E31: 29
B32: 30 | C32: 昭和町 | E32: 30
B33: 31 | C33: 宮前町 | E33: 31
B34: 32 | C34: 東本町 | E34: 32
B35: 33 | C35: 下植木町 | E35: 33
A36: 茂呂 | B36: 34 | C36: 今泉町一丁目 | E36: 34
B37: 35 | C37: 粕川町 | E37: 35
B38: 36 | C38: 北千木町 | E38: 36
B39: 37 | C39: 南千木町 | E39: 37
B40: 38 | C40: 茂呂町一丁目 | E40: 38
...

Sheet Sheet3
A2: 伊勢崎郵便局 | B2: =VLOOKUP(A2,Sheet1!$C$8:$D$30,2,FALSE) -> 曲輪町36-2 | C2: 曲輪町 | D2: 1
A3: 伊勢崎中央町郵便局 | B3: =VLOOKUP(A3,Sheet1!$C$8:$D$30,2,FALSE) -> 中央町29-2 | C3: 中央町 | D3: 5
A4: 伊勢崎寿町郵便局 | B4: =VLOOKUP(A4,Sheet1!$C$8:$D$30,2,FALSE) -> 寿町150-2 | C4: 寿町 | D4: 12
A5: 伊勢崎上泉郵便局 | B5: =VLOOKUP(A5,Sheet1!$C$8:$D$30,2,FALSE) -> 上泉町249-3 | C5: 上泉町 | D5: 20
A6: 伊勢崎三和郵便局 | B6: =VLOOKUP(A6,Sheet1!$C$8:$D$30,2,FALSE) -> 三和町2195-3 | C6: 三和町 | D6: 23
A7: 伊勢崎豊城郵便局 | B7: =VLOOKUP(A7,Sheet1!$C$8:$D$30,2,FALSE) -> 豊城町1962-1 | C7: 豊城町 | D7: 27
A8: 伊勢崎東本町郵便局 | B8: =VLOOKUP(A8,Sheet1!$C$8:$D$30,2,FALSE) -> 東本町377-7 | C8: 東本町 | D8: 32
A9: 茂呂郵便局 | B9: =VLOOKUP(A9,Sheet1!$C$8:$D$30,2,FALSE) -> 茂呂町1-3413-1 | C9: 茂呂町一丁目 | D9: 38
A10: 伊勢崎太田郵便局 | B10: =VLOOKUP(A10,Sheet1!$C$8:$D$30,2,FALSE) -> 太田町893 | C10: 太田町 | D10: 46
A11: 伊勢崎宮郷郵便局 | B11: =VLOOKUP(A11,Sheet1!$C$8:$D$30,2,FALSE) -> 田中島町1420-3 | C11: 田中島町 | D11: 52
A12: 伊勢崎田中郵便局 | B12: =VLOOKUP(A12,Sheet1!$C$8:$D$30,2,FALSE) -> 田中町674-3 | C12: 田中町 | D12: 53
A13: 伊勢崎山王郵便局 | B13: =VLOOKUP(A13,Sheet1!$C$8:$D$30,2,FALSE) -> 山王町64-1 | C13: 山王町 | D13: 60
... A24: 境郵便局 | B24: =VLOOKUP(A24,Sheet1!$C$8:$D$30,2,FALSE) -> 境下武士360-2 | C24: 境下武士 | D24: 126

Sheet Sheet4
A1: アイオー信用金庫 大手町出張所 | B1: =VLOOKUP(A1,Sheet1!$C$31:$D$43,2,FALSE) -> 大手町12-20 | C1: 大手町 | D1: 2
A2: アイオー信用金庫 本店営業部 | B2: =VLOOKUP(A2,Sheet1!$C$31:$D$43,2,FALSE) -> 中央町20-17 | C2: 中央町 | D2: 5
A3: アイオー信用金庫 うえはす支店 | B3: =VLOOKUP(A3,Sheet1!$C$31:$D$43,2,FALSE) -> 上諏訪町2111-16 | C3: 上諏訪町 | D3: 28
A4: アイオー信用金庫 茂呂支店 | B4: =VLOOKUP(A4,Sheet1!$C$31:$D$43,2,FALSE) -> 茂呂町二丁目3509-18 | C4: 茂呂町二丁目 | D4: 39
A5: アイオー信用金庫 北支店 | B5: =VLOOKUP(A5,Sheet1!$C$31:$D$43,2,FALSE) -> 太田町909-4 | C5: 太田町 | D5: 46
A6: アイオー信用金庫 TBSハウジング支店 | B6: =VLOOKUP(A6,Sheet1!$C$31:$D$43,2,FALSE) -> 宮子町3600-1 | C6: 宮子町 | D6: 48
A7: アイオー信用金庫 宮郷支店 | B7: =VLOOKUP(A7,Sheet1!$C$31:$D$43,2,FALSE) -> 連取町3039-3 | C7: 連取町 | D7: 51
A8: アイオー信用金庫 名和出張所 | B8: =VLOOKUP(A8,Sheet1!$C$31:$D$43,2,FALSE) -> 堀口町315-1 | C8: 堀口町 | D8: 61
A9: アイオー信用金庫 豊受支店 | B9: =VLOOKUP(A9,Sheet1!$C$31:$D$43,2,FALSE) -> 富塚町252-7 | C9: 富塚町 | D9: 69
A10: アイオー信用金庫 赤堀支店 | B10: =VLOOKUP(A10,Sheet1!$C$31:$D$43,2,FALSE) -> 市場町二丁目890 | C10: 市場町二丁目 | D10: 94
A11: アイオー信用金庫 あずま支店 | B11: =VLOOKUP(A11,Sheet1!$C$31:$D$43,2,FALSE) -> 東町2612-1 | C11: 東町 | D11: 99
A12: アイオー信用金庫 境支店 | B12: =VLOOKUP(A12,Sheet1!$C$31:$D$43,2,FALSE) -> 境764-4 | C12: 境 | D12: 110
A13: アイオー信用金庫 渕名出張所 | B13: =VLOOKUP(A13,Sheet1!$C$31:$D$43,2,FALSE) -> 境上渕名1091-2 | C13: 境上渕名 | D13: 121

Sheet Sheet5
A1: 桐生信用金庫 伊勢崎支店 | B1: =VLOOKUP(Sheet5!A1,Sheet1!$C$49:$D$55,2,FALSE) -> #N/A | C1: 柳原町 | D1: 11
A2: 桐生信用金庫 伊勢崎東支店 | B2: =VLOOKUP(Sheet5!A2,Sheet1!$C$49:$D$55,2,FALSE) -> 上諏訪町2113-16 | C2: 上諏訪町 | D2: 28
A3: 桐生信用金庫 伊勢崎南支店 | B3: =VLOOKUP(Sheet5!A3,Sheet1!$C$49:$D$55,2,FALSE) -> 南千木町5234-1 | C3: 南千木町 | D3: 37
A4: 桐生信用金庫 伊勢崎西支店 | B4: =VLOOKUP(Sheet5!A4,Sheet1!$C$49:$D$55,2,FALSE) -> #N/A | C4: 連取本町 | D4: 49
A5: 桐生信用金庫 豊受支店 | B5: =VLOOKUP(Sheet5!A5,Sheet1!$C$49:$D$55,2,FALSE) -> 富塚町221-1 | C5: 富塚町 | D5: 69
A6: 桐生信用金庫 赤堀支店 | B6: =VLOOKUP(Sheet5!A6,Sheet1!$C$49:$D$55,2,FALSE) -> 西久保町2-511-1 | C6: 西久保町二丁目 | D6: 79
A7: 桐生信用金庫 国定支店 | B7: =VLOOKUP(Sheet5!A7,Sheet1!$C$49:$D$55,2,FALSE) -> 国定町二丁目1865-２ | C7: 国定町二丁目 | D7: 106
A8: 桐生信用金庫 境支店 | B8: =VLOOKUP(Sheet5!A8,Sheet1!$C$49:$D$55,2,FALSE) -> 境栄938 | C8: 境栄 | D8: 132
